Workbook
Name ACCOUNTEDPERIODTYPE1: #REF!
Name APPSUSERNAME1: #REF!
Name CHARTOFACCOUNTSID1: #REF!
Name Check1: #REF!
Name Check2: #REF!
Name Check2_: #REF!
Name Check3: #REF!
Name ClosingDate: #REF!
Name CodeGLDIContextButton: [1]!CodeGLDIContextButton
Name CodeGLDIHeaderButton: #REF!
Name Company: #REF!
Name CONNECTSTRING1: #REF!
Name Contact: #REF!
Name CostCentre: #REF!
Name CREATESUMMARYJNLS1: #REF!
Name Credit: [2]Reference!$B$14:$N$32
Name CRITERIACOLUMN1: #REF!
Name d: '[3]P&L'!$Y$4
Name DBNAME1: #REF!
Name DBUSERNAME1: #REF!
Name DELETELOGICTYPE1: #REF!
Name div_rate: [4]IN!#REF!
Name drivers: #REF!
Name EUR_Old: #REF!
Name EURperSTG: #REF!
Name FFAPPCOLNAME1_1: #REF!
Name FFAPPCOLNAME2_1: #REF!
Name FFAPPCOLNAME3_1: #REF!
Name FFSEGMENT1_1: #REF!
Name FFSEGMENT2_1: #REF!
Name FFSEGMENT3_1: #REF!
Name FFSEGSEPARATOR1: #REF!
Name FIELDNAMECOLUMN1: #REF!
Name FIELDNAMEROW1: #REF!
Name FIRSTDATAROW1: #REF!
Name FNDNAM1: #REF!
Name FNDUSERID1: #REF!
Name frf: #REF!
Name FUNCTIONALCURRENCY1: #REF!
Name G: #REF!
Name GL: #REF!
Name GWYUID1: #REF!
Name H: #REF!
Name IMPORTDFF1: #REF!
Name Input_Area: #REF!
Name j: #REF!
Name JASON: #REF!
Name jj: #REF!
Name k: #REF!
Name kj: #REF!
Name LABELTEXTCOLUMN1: #REF!
Name LABELTEXTROW1: #REF!
Name Libor_Curve: #REF!
Name Log_Mointor: #REF!
Name mnth_end_date: #REF!
Name mnth_name: #REF!
Name mnth_nmbr: #REF!
Name Month: #REF!
Name Months: #REF!
Name Moodys_Clear_Area: #REF!,#REF!,#REF!

Sheet Part 1 and 2 Reporting data
A1: Duncan Funding 2024 PLC
A3: =VLOOKUP([5]MONTHLY_CHECKS!$C$3,[5]TABLES!$B$4:$C$16,2,FALSE)&" "&YEAR([5]MONTHLY_CHECKS!$C$2) -> September 2026
A7: General Information | H7: Additional Information
A8: Distribution Date | D8: 46295 | H8: Prospectus | K8: www.tsb.co.uk/investors/debt-investors/securitisation
A9: Reporting / Collection Period | D9: 1st September 2026 - 30th September 2026 | H9: Investor Reporting | K9: www.tsb.co.uk/investors/debt-investors/securitisation
A10: Accrual Period | D10: 22nd July 2026 - 21st October 2026 | H10: Transaction Documentation | K10: www.tsb.co.uk/investors/debt-investors/securitisation
A11: Number of days in interest period | D11: 92 | H11: Loan Level Reporting | K11: www.tsb.co.uk/investors/debt-investors/securitisation
A12: Last Payment Date | D12: 22nd October 2026 | H12: Cashflow Model | K12: www.tsb.co.uk/investors/debt-investors/securitisation
A13: Next Payment Date | D13: 22nd January 2027
A14: Index | D14: Compounded Daily SONIA
A15: Portfolio Currency | D15: GBP (£) | H15: Monthly Report Content
H16: General information | K16: Page 1
H17: Portfolio Characteristics | K17: Page 3
A18: Transaction Counterparties | H18: Mortgage Assets Data | K18: Page 4 to Page 6
A19: Issuer | D19: Duncan Funding 2024-1 Plc | H19: Capital Structure | K19: Page 7
A20: Issuer LEI code | D20: 635400PGAEKS4EJD2S26 | H20: Credit Enhancement | K20: Page 8
A21: Seller | D21: TSB Bank Plc | H21: Swaps | K21: Page 9
A22: Security / Note Trustee | D22: BNY Mellon Corporate Trustee Service Ltd | H22: Waterfall | K22: Page 10
A23: Share Trustee | D23: CSC Corporate Services UK Ltd | H23: Ledgers | K23: Page 11
A24: Agent Bank and Principal Paying Agent | D24: The Bank of New York Mellon, London Branch | H24: Ratings and Triggers | K24: Page 12 to Page 14
A25: Issuer and Swap Collateral Account Bank | D25: The Bank of New York Mellon, London Branch | H25: Glossary and Definitions | K25: Page 15 to Page 16
A26: Cash Manager | D26: TSB Bank Plc
A27: Collection Account Bank | D27: TSB Bank Plc
A28: Corporate Services Provider | D28: CSC Capital Markets UK Ltd
A29: Servicer | D29: TSB Bank Plc | H29: Contact Details
A30: Start Up Loan Provider | D30: TSB Bank Plc | H30: Katherine Sinclair | K30: securedfunding@tsb.co.uk
A31: Interest Rate Provider | D31: TSB Bank Plc
A32: Back-up Interest Rate Provider | D32: Lloyds Bank Corporate Markets plc
A33: Back-Up Servicing Facilitator | D33: CSC Capital Markets UK Ltd
A34: Arranger | D34: Citigroup Global Markets Limited
A35: Lead Managers | D35: Banco de Sabadell, S.A. / Merrill Lynch International / BNP Paribas / Santander Corporate and Investment Banking / Citigroup Global Markets Limited | H35: TSB Bank Plc Registered Address | K35: Henry Duncan House, 120 George Street, Edinburgh
K36: EH2 4LH
A37: Dematerialised Note Registrar | D37: TSB Bank Plc | H37: TSB Bank Plc Address for Correspondence | K37: Barnwood 2, Barnett Way, Gloucester, GL4 3DU
A38: Subordinated Noteholder | D38: TSB Bank Plc
A58: =A3 -> September 2026
A60: Disclaimer
A63: This document should not be distributed to any U.S. Persons (as such term is defined in Regulation S under the U.S. Securities Act) or to any person or address in the U.S. other then to Qualified Institutional Buyers
A66: The notes were awarded a quality label by the Prime Collateralised Securities initiative (PCS) on 27 May 2016. For further information on PCS and the label see www.pcsmarket.org. As a condition of being awarded the label, TSB Bank plc has agreed to make the following disclosures.
A68: PCS Disclosure In relation to the representations warranties and undertakings required pursuant to item 1 (d) (viii) of the PCS Rulebook please refer to the Originator’s Certificate and Prospectus. The information and documents required by PCS Eligibility Criteria 3(b)(vii)(A) and disclosed in “Listing and General Information”, paragraph 9, page 276 of the Prospectus shall be made available until the date the last note is redeemed in full. The transaction documents are also available at https://boeportal.co.uk/GlobalPortal/Account/Login.aspx. Loan level data relating to the pool is also available at the aforementioned website and is updated on a quarterly basis. Such information will remain available until the date the last note is redeemed in full.
A70: At the date of the issuance of the notes, a cash flow model for the transaction was made available on the third-party, proprietary services offered by Intex and ABSnet. TSB Bank plc has not endorsed and does not accept any responsibility for such third-party models. The liability only cash flow model required by the Bank of England Market Notice dated 30 November 2010 is available at https://boeportal.co.uk/GlobalPortal/Account/Login.aspx. At least one such cash flow model will remain available until the date the last note is redeemed in full.
...

Sheet Part 3 Triggers & Glossary
A1: ='Part 1 and 2 Reporting data'!A3 -> September 2026
A3: Ratings and Triggers
A6: Rating Based Triggers
A7: Transaction Party | C7: Counterparty | E7: Required Long Term Rating (Fitch/Moody's) | F7: Current Long Term Rating (Fitch/Moody's) | H7: Required Short Term Rating (Fitch/Moody's) | I7: Current Short Term Rating (Fitch/Moody's) | K7: Status | L7: Consequences
A8: Issuer Account Bank and Custodian | C8: The Bank of New York Mellon, London Branch | E8: A/A1 | F8: AA-/Aa3 | H8: F1/P-1 | I8: F1+/P-1 | K8: Pass | L8: The Issuer and the Issuer Account Bank and/or or the Custodian, as applicable shall use all reasonable endeavours to, within 60 calendar days following the first day on which such downgrade occurred, either:
L9: (i) close the relevant Bank Accounts (as applicable) held with the Issuer Account Bank and/or Custodian, and open replacement accounts with a financial institution (ii) obtain a guarantee of the obligations of such Issuer Account Bank or the Custodian, as applicable, under this Agreement from a financial institution having all of the Account Bank Required Ratings; or (iii) take such other reasonable actions as may be required to ensure that the then current rating of the Class A Notes are not adversely affected by the Issuer Account Bank or the Custodian, as applicable, ceasing to have all of the Account Bank Required Ratings; or (iv) take such other reasonable actions as the Rating Agencies may agree will not result in any of the Rating Agencies downgrading the current rating assigned to the Class A Notes or withdrawing, qualifying or putting such current rating assigned to any Class or Classes of Debt on a negative outlook . Provided that, in the cases of each of (i) to (iv) (inclusive) above, the Rating Agencies confirm that the then current rating of the Class A Notes would not be adversely affected thereby.
A10: Interest Rate Swap Providers | C10: TSB Bank Plc / Lloyds Bank Corporate Markets plc
D13: Moody's First Trigger | E13: - /A3(cr) | F13: - /A1(cr) (-/A1(cr)) | K13: Pass | L13: If at least 30 business days have elapsed since the last time the Swap Provider had the required rating, the Swap Provider must, if required, post collateral and may either (i) transfer its rights and obligations under the relevant Swap Agreement to an appropriately rated replacement third party, or (ii) procure a guarantee from an appropriately rated third party. A failure by the Swap Provider to take such steps will, in certain circumstances, allow the Issuer to terminate the relevant Swap Agreement.
D14: Moody's Second Trigger | E14: - /Baa1(cr) | F14: - /A1(cr) (-/A1(cr)) | K14: Pass | L14: If a Swap Provider does not have the required rating, the Swap Provider must, within 30 business days, either (i) transfer its rights and obligations under the relevant Swap Agreement to an appropriately rated replacement third party, or (ii) procure a guarantee from an appropriately rated third party.
D16: Fitch First Trigger | E16: A/ - | F16: (AA/-) | H16: F1/ - | L16: The Swap Provider must provide collateral within 14 calendar days unless, it either (i) transfers its obligations in respect of the relevant Swap to an entity that is eligible to be a swap provider under the Fitch ratings criteria, (ii) obtains a guarantee or co-obligation in respect of the relevant Swap from an entity with the required Unsupported Minimum Counterparty Ratings, or (iii) takes such other action as will maintain, or restore, the rating of the highest class of Rated Notes by Fitch, within 60 days.
D17: Fitch Second Trigger | E17: BBB+/ - | F17: (AA/-) | H17: F2/ - | L17: The Swap Provider must, within 60 calendar days, either (i) transfer its obligations in respect of the relevant Swap to an entity that is eligible to be a swap provider under the Fitch ratings criteria, (ii) obtain a guarantee or co-obligation in respect of the relevant Swap from an entity with the required Unsupported Minimum Counterparty Ratings, or an entity with the Supported Minimum Counterparty Ratings or (iii) take such other action as will maintain, or restore, the rating of the highest class of Rated Notes by Fitch. Whilst this process is ongoing the Swap Provider must also provide collateral within 14 calendar days or if collateral has previously been provided, continue to provide collateral.
A18: =A1 -> September 2026
A20: Ratings and Triggers
A23: Non Rating Based Triggers
A25: Nature of Trigger | C25: Summary | I25: Prospectus Ref. | K25: Status | L25: Consequence
A26: Seller | C26: The occurrence of any of the following: | I26: p. 98 / 99 | L26: The Issuer will be entitled to effect legal transfer of the Loans by making the required registrations and serving notice on the Borrowers.
C27: (a) the Seller is required to perfect transfer of legal title to the Loans and their Related Security (i) by an order of a court of competent jurisdiction or (ii) by any regulatory authority of which the Seller is a member and with whose instructions the Seller is required to comply, | K27: Pass
C28: (b) it becomes necessary by law for the Issuer to perfect legal title to the Loans and their Related Security, | K28: Pass
C29: (c) the Seller calling for perfection by serving notice in writing to that effect on the Issuer and the Security Trustee, | K29: Pass
C30: (d) the security under the Deed of Charge or any material part of that security is, in the opinion of the Security Trustee, in jeopardy and the Security Trustee is required by the Note Trustee, on behalf of the Noteholders so long as any Notes are outstanding, or the other Secured Creditors if no Notes are then outstanding, to take action to reduce that jeopardy, | K30: Pass
C31: (e) a Seller Insolvency Event, or | K31: Pass
C32: (f) the Seller is in breach of its obligations under the Mortgage Sale Agreement, but only if such breach, where capable of remedy, is not remedied to the reasonable satisfaction of (prior to the delivery of a Note Acceleration Notice) the Issuer or (after the (f) delivery of a Note Acceleration Notice) the Security Trustee (acting in accordance with the Deed of Charge) within 90 calendar days
A33: Servicer Termination Event | C33: The occurrence of any of the following: | I33: p.100 | L33: (a) Following the occurrence of a Servicer Termination Event, the Issuer may terminate the appointment of the Servicer under the Servicing Agreement and transfer servicing to a replacement servicer. (b) The Servicer may also resign its appointment on no less than 12 months’ written notice to, among others, the Issuer and the Security Trustee with a copy being sent to the Rating Agencies provided that (i) the Issuer and the Security Trustee consent to such termination, (ii) a replacement servicer qualified to act as such under the FSMA and the CCA and with a management team with experience of servicing residential mortgages in the United Kingdom has been appointed and enters into a servicing agreement with the Issuer on substantially the same terms as the Servicing Agreement, and (iii) the resignation has no adverse effect on the then current ratings of the Class A Notes unless the Noteholders agree otherwise by Extraordinary Resolution.
C34: (a) the Servicer defaults in the payment on the due date of any payment due and payable by it under the Servicing Agreement and such default continues unremedied for a period of seven Business Days after the earlier of the Servicer becoming aware of such default and receipt by the Servicer of written notice from the Issuer, the Seller or the Security Trustee, as the case may be, requiring the same to be remedied; | K34: Pass
C35: (b) the Servicer defaults in the performance or observance of any of its other covenants and obligations under the Servicing Agreement, which failure in the reasonable opinion of the Issuer (prior to the delivery of a Note Acceleration Notice) or the Security Trustee (after the delivery of a Note Acceleration Notice) is materially prejudicial to the interests of the Noteholders, and the Servicer does not remedy that failure within 20 Business Days after the earlier of the Servicer becoming aware of the failure and receipt by the Servicer of written notice from the Issuer, the Seller or the Security Trustee requiring the Servicer’s non-compliance to be remedied; | K35: Pass
C36: (c) the Servicer fails to obtain or maintain the necessary licences or regulatory approvals enabling it to continue to service the Loans; or | K36: Pass
C37: (d) an insolvency event occurs in relation to the Servicer. | K37: Pass
A38: =A18 -> September 2026
A40: Ratings and Triggers
A43: Non Rating Based Triggers
A45: Event | C45: Summary | I45: Prospectus Ref. | K45: Status | L45: Consequence
A46: Cash Manager Termination Event | C46: The occurrence of any of the following: | I46: p.101 | L46: (a) Following the occurrence of a Cash Manager Termination Event, the Issuer or the Security Trustee may terminate the appointment of the Cash Manager under the Cash Management Agreement and transfer cash management services to a replacement cash manager. (b) The Cash Manager may also resign its appointment on no less than 12 months’ written notice to, among others, the Issuer, the Seller and the Security Trustee provided that (i) the Security Trustee provides prior written approval, (ii) a replacement Cash Manager with cash management experience has been appointed and enters into a cash management agreement with the Issuer on substantially the same terms as the Cash Management Agreement, and (iii) the resignation has no adverse effect on the then current ratings of the Class A Notes unless the Controlling Class otherwise directs.
C47: (a) the Cash Manager defaults in the payment on the due date of any payment due and payable by it under the Cash Management Agreement and such default continues unremedied for a period of seven Business Days after the earlier of the Cash Manager becoming aware of such default and receipt by the Cash Manager of written notice from the Issuer or the Security Trustee, as the case may be, requiring the same to be remedied; | K47: Pass
C48: (b) the Cash Manager defaults in the performance or observance of any of its other covenants and obligations under the Cash Management Agreement, which failure in the reasonable opinion of the Issuer (prior to the delivery of a Note Acceleration Notice) or the Security Trustee (after the delivery of a Note Acceleration Notice) is materially prejudicial to the interests of the Noteholders, and the Cash Manager does not remedy that failure within 20 Business Days after the earlier of the Cash Manager becoming aware of the failure and receipt by the Cash Manager of written notice from the Issuer or the Security Trustee requiring the Cash Manager’s non-compliance to be remedied; or | K48: Pass
C49: (c) an insolvency event occurs in relation to the Cash Manager. | K49: Pass
A50: Revolving Period Termination Event | C50: The occurrence of: (i) an Event of Default; (ii) a Portfolio Eligibility Trigger; or (iii) the occurrence of a Principal Ledger Threshold Event. | I50: p.101 / 102 | K50: Pass | L50: Available Principal Receipts will be applied in accordance with the following priority of payments on an Interest Payment Date: (a) first, in or towards repayment of the principal amounts outstanding on the Class A Notes until the Principal Amount Outstanding on the Class A Notes has been reduced to zero; (b) second, in or towards repayment of the principal amounts outstanding on the Subordinated Note until the Principal Amount Outstanding on the Subordinated Note has been reduced to zero; and (c) third, to pay any Deferred Consideration in accordance with the Mortgage Sale Agreement in respect of the Loans sold to the Issuer from time to time to the Seller.
A56: Event of Default | C56: The occurrence of a Senior Note Event of Default and/ or Subordinated Note Event of Default | I56: p.28 | K56: Pass
A57: Portfolio Eligibility Trigger | C57: Portfolio Eligibility Trigger means the occurrence of any one of the following events: | I57: p.39 | K57: Pass
C58: (a) the Step-Up Date; (b) a Seller Insolvency Event;
C59: (c) an unremedied breach by the Seller of any of its obligations under the Transaction Documents, which breach has (or, with the passage of time, would have) a Material Adverse Effect;
...

Sheet Sheet3
A1: LOOKUP FOR TREND | B1: BANDS: GRAPHS/TREND | C1: RESULTS GRPAHS/TREND | D1: LOOKUPS FOR IR
A2: DO NOT OVER-WRITE UNLESS YOU ARE CHANGING IR REPORT DISCLOSURES
D4: UPDATE --->
C101: MONTHLY INPUT: Current month end BoE BBR --> | D101: 0.0375
A115: ='Part 1 and 2 Reporting data'!A114 -> Constant Prepayment Rate (CPR) - Annualised | B115: ='Part 1 and 2 Reporting data'!C115 -> Single month
A116: =A115 -> Constant Prepayment Rate (CPR) - Annualised | B116: ='Part 1 and 2 Reporting data'!C116 -> Quarterly
A117: =A116 -> Constant Prepayment Rate (CPR) - Annualised | B117: ='Part 1 and 2 Reporting data'!C117 -> Since Transaction Close
A119: ='Part 1 and 2 Reporting data'!A118 -> Principal Payment Rate (PPR) - Annualised | B119: ='Part 1 and 2 Reporting data'!C119 -> Single month
A120: =A119 -> Principal Payment Rate (PPR) - Annualised | B120: ='Part 1 and 2 Reporting data'!C120 -> Quarterly
A121: =A120 -> Principal Payment Rate (PPR) - Annualised | B121: ='Part 1 and 2 Reporting data'!C121 -> Since Transaction Close
A123: ='Part 1 and 2 Reporting data'!A122 -> Constant Default Rate (CDR) - Annualised | B123: ='Part 1 and 2 Reporting data'!C123 -> Single month
A124: =A123 -> Constant Default Rate (CDR) - Annualised | B124: ='Part 1 and 2 Reporting data'!C124 -> Quarterly
A125: =A124 -> Constant Default Rate (CDR) - Annualised | B125: ='Part 1 and 2 Reporting data'!C125 -> Since Transaction Close
A129: ='Part 1 and 2 Reporting data'!A127 -> Set Off Balances | B129: ='Part 1 and 2 Reporting data'!A129 -> Deposit Balances
A130: =A129 -> Set Off Balances | B130: ='Part 1 and 2 Reporting data'!A130 -> Deposit capped at mortgage balance
A131: =A130 -> Set Off Balances | B131: ='Part 1 and 2 Reporting data'!A131 -> Deposit over FSCS limit
A136: ='Part 1 and 2 Reporting data'!A135 -> Month(s) In Arrears | B136: =D136 -> Current | D136: Current
A137: =A136 -> Month(s) In Arrears | B137: =D137 -> 0-1 month in arrears | D137: 0-1 month in arrears
A138: =A137 -> Month(s) In Arrears | B138: =D138 -> 1-2 month in arrears | D138: 1-2 month in arrears
A139: =A138 -> Month(s) In Arrears | B139: =D139 -> 2-3 month in arrears | D139: 2-3 month in arrears
A140: =A139 -> Month(s) In Arrears | B140: =D140 -> 3-6 month in arrears | D140: 3-6 month in arrears
A141: =A140 -> Month(s) In Arrears | B141: =D141 -> 6-9 month in arrears | D141: 6-9 month in arrears
A142: =A141 -> Month(s) In Arrears | B142: =D142 -> 9-12 month in arrear | D142: 9-12 month in arrear
A143: =A142 -> Month(s) In Arrears | B143: =D143 -> 12+ months in arrears | D143: 12+ months in arrears
A151: ='Part 1 and 2 Reporting data'!A150 -> Geographic Analysis | B151: ='Part 1 and 2 Reporting data'!A151 -> East of England
A152: =A151 -> Geographic Analysis | B152: ='Part 1 and 2 Reporting data'!A152 -> East Midlands
A153: =A152 -> Geographic Analysis | B153: ='Part 1 and 2 Reporting data'!A153 -> Greater London
A154: =A153 -> Geographic Analysis | B154: ='Part 1 and 2 Reporting data'!A154 -> North East
A155: =A154 -> Geographic Analysis | B155: ='Part 1 and 2 Reporting data'!A155 -> North West
A156: =A155 -> Geographic Analysis | B156: ='Part 1 and 2 Reporting data'!A156 -> Scotland
A157: =A156 -> Geographic Analysis | B157: ='Part 1 and 2 Reporting data'!A157 -> South East
A158: =A157 -> Geographic Analysis | B158: ='Part 1 and 2 Reporting data'!A158 -> South West
A159: =A158 -> Geographic Analysis | B159: ='Part 1 and 2 Reporting data'!A159 -> Wales
A160: =A159 -> Geographic Analysis | B160: ='Part 1 and 2 Reporting data'!A160 -> West Midlands
A161: =A160 -> Geographic Analysis | B161: ='Part 1 and 2 Reporting data'!A161 -> Yorkshire/Humberside
A166: ='Part 1 and 2 Reporting data'!A165 -> Indexed Loan to Value Ratios | B166: 0-50 | C166: ='Part 1 and 2 Reporting data'!F166 -> 0.25778072 | D166: ="_"&'Part 1 and 2 Reporting data'!A166 -> _0-50%
A167: =A166 -> Indexed Loan to Value Ratios | B167: 50-70 | C167: =SUM('Part 1 and 2 Reporting data'!F167:F170) -> 0.39514115 | D167: ="_"&'Part 1 and 2 Reporting data'!A167 -> _50-55%
A168: =A167 -> Indexed Loan to Value Ratios | B168: 70-80 | C168: =SUM('Part 1 and 2 Reporting data'!F171:F172) -> 0.24756485 | D168: ="_"&'Part 1 and 2 Reporting data'!A168 -> _55-60%
A169: =A168 -> Indexed Loan to Value Ratios | B169: 80-85 | C169: ='Part 1 and 2 Reporting data'!F173 -> 0.08283107 | D169: ="_"&'Part 1 and 2 Reporting data'!A169 -> _60-65%
A170: =A169 -> Indexed Loan to Value Ratios | B170: 85-90 | C170: ='Part 1 and 2 Reporting data'!F174 -> 0.016277069 | D170: ="_"&'Part 1 and 2 Reporting data'!A170 -> _65-70%
...
